BEGIN:VCALENDAR
VERSION:2.0
PRODID:-//setonparish.org//eCatholic//EN
X-WR-TIMEZONE:LocalTZ
BEGIN:VTIMEZONE
TZID:LocalTZ
X-LIC-LOCATION:LocalTZ
BEGIN:DAYLIGHT
TZOFFSETFROM:-0600
TZOFFSETTO:-0500
TZNAME:LocalTZ
DTSTART:19700308T020000
RRULE:FREQ=YEARLY;BYMONTH=3;BYDAY=2SU
END:DAYLIGHT
BEGIN:STANDARD
TZOFFSETFROM:-0500
TZOFFSETTO:-0600
TZNAME:LocalTZ
DTSTART:19701101T020000
RRULE:FREQ=YEARLY;BYMONTH=11;BYDAY=1SU
END:STANDARD
END:VTIMEZONE
BEGIN:VEVENT
UID:360737@setonparish.org
DTSTAMP:20260421T195027Z
DTSTART:20260509T090000
DTEND:20260509T113000
RRULE:FREQ=MONTHLY;BYDAY=SA;BYSETPOS=2
EXDATE:20161008T090000,20161112T090000,20161210T090000,20200411T090000,202
 00509T090000,20200808T090000,20211009T090000,20211113T090000,20220813T0900
 00
SUMMARY:Love Truck Collection Weekend
DESCRIPTION:The Love Truck collection will take place from 9am to 11:30am 
 on Saturday and Sunday in the South Parking Lot of the Seton Faith Formati
 on Center. Do not leave donations unless volunteers are present collecting
  items.
END:VEVENT
BEGIN:VEVENT
UID:548066@setonparish.org
DTSTAMP:20260421T195027Z
DTSTART:20260510T090000
DTEND:20260510T113000
RRULE:FREQ=MONTHLY;BYDAY=SU;BYSETPOS=2
EXDATE:20171008T090000,20180408T090000,20180708T090000,20190908T090000,201
 91208T090000,20200308T090000,20200412T090000,20200510T090000,20200614T0900
 00,20200712T090000,20200809T090000,20211010T090000,20220508T090000,2024090
 8T090000,20240908T090000,20240908T090000,20241208T090000,20260208T090000
SUMMARY:Love Truck Weekend
DESCRIPTION:The Love Truck collection will take place from 9am to 11:30am 
 on Saturday and Sunday in the South Parking Lot of the Seton Faith Formati
 on Center. Do not leave donations unless volunteers are present collecting
  items.
END:VEVENT
BEGIN:VEVENT
UID:1452354@setonparish.org
DTSTAMP:20260421T195027Z
DTSTART:20260424T090000
DTEND:20260424T113000
RRULE:FREQ=WEEKLY;BYDAY=FR
EXDATE:20201002T090000
SUMMARY:Exposition of the Blessed Sacrament & Rosary
DESCRIPTION:Friday Eucharistic Adoration Exposition of the Blessed Sacrame
 nt will take place in the Church after the 8:30 a.m. Mass and conclude wit
 h Benediction at 11:30 a.m. For more information\, please call Min Ozaeta 
 at 972-886-8244 or Kay Neurauter at 972-896-9585.
END:VEVENT
BEGIN:VEVENT
UID:1743183@setonparish.org
DTSTAMP:20260421T195027Z
DTSTART:20260513T193000
DTEND:20260513T203000
RRULE:FREQ=MONTHLY;BYDAY=WE;BYSETPOS=2
SUMMARY:Men's Club Monthly Meeting
DESCRIPTION:Join us in the Seton Faith Formation Center Rooms 130A&B for a
  brief meeting and fellowship.  Come meet other Men of the Parish in a cas
 ual and inviting atmosphere.
END:VEVENT
BEGIN:VEVENT
UID:2730494@setonparish.org
DTSTAMP:20260421T195027Z
DTSTART:20260505T190000
DTEND:20260505T210000
RRULE:FREQ=MONTHLY;BYDAY=TU;BYSETPOS=1
SUMMARY:Emmaus Trivia Night!
DESCRIPTION:Join us for Trivia Night at Armor Brewery (9 Prestige Cir\, Al
 len\, TX 75002) at 7 pm
END:VEVENT
BEGIN:VEVENT
UID:2854921@setonparish.org
DTSTAMP:20260421T195027Z
DTSTART:20260512T190000
DTEND:20260512T203000
SUMMARY:Seton Caregiver Support Group Meeting (in-person)
DESCRIPTION:Topic: Getting through a crisis\, handling loved one’s health 
 and medical care.
END:VEVENT
BEGIN:VEVENT
UID:2854922@setonparish.org
DTSTAMP:20260421T195027Z
DTSTART:20260526T190000
DTEND:20260526T203000
SUMMARY:Seton Caregiver Support Group Meeting (in-person)
END:VEVENT
BEGIN:VEVENT
UID:2854923@setonparish.org
DTSTAMP:20260421T195027Z
DTSTART:20260609T190000
DTEND:20260609T203000
SUMMARY:Seton Caregiver Support Group Meeting (in-person)
DESCRIPTION:Topic: Getting through a crisis\, handling loved one’s health 
 and medical care.
END:VEVENT
BEGIN:VEVENT
UID:2854925@setonparish.org
DTSTAMP:20260421T195027Z
DTSTART:20260623T190000
DTEND:20260623T203000
SUMMARY:Seton Caregiver Support Group Meeting (in-person)
END:VEVENT
BEGIN:VEVENT
UID:3024006@setonparish.org
DTSTAMP:20260421T195027Z
DTSTART:20260530T180000
DTEND:20260530T223000
SUMMARY:50th Anniversary Picnic
DESCRIPTION:Celebrating 50th years of St. Elizabeth Ann Seton with a famil
 y picnic at Oak Point Park on Saturday\, May 30th.
END:VEVENT
BEGIN:VEVENT
UID:3028435@setonparish.org
DTSTAMP:20260421T195027Z
DTSTART:20260615T090000
DTEND:20260615T120000
SUMMARY:Vacation Bible School 2026
DESCRIPTION:Rainforest Falls VBS coming in JUNE 2026! Monday\, June 15\, 2
 026 through Friday\, June 19\, 2026 
END:VEVENT
BEGIN:VEVENT
UID:3028438@setonparish.org
DTSTAMP:20260421T195027Z
DTSTART:20260616T090000
DTEND:20260616T120000
SUMMARY:Vacation Bible School 2026
DESCRIPTION:Rainforest Falls VBS coming in JUNE 2026! Monday\, June 15\, 2
 026 through Friday\, June 19\, 2026 
END:VEVENT
BEGIN:VEVENT
UID:3028440@setonparish.org
DTSTAMP:20260421T195027Z
DTSTART:20260617T090000
DTEND:20260617T120000
SUMMARY:Vacation Bible School 2026
DESCRIPTION:Rainforest Falls VBS coming in JUNE 2026! Monday\, June 15\, 2
 026 through Friday\, June 19\, 2026 
END:VEVENT
BEGIN:VEVENT
UID:3028442@setonparish.org
DTSTAMP:20260421T195027Z
DTSTART:20260618T090000
DTEND:20260618T120000
SUMMARY:Vacation Bible School 2026
DESCRIPTION:Rainforest Falls VBS coming in JUNE 2026! Monday\, June 15\, 2
 026 through Friday\, June 19\, 2026 
END:VEVENT
BEGIN:VEVENT
UID:3028443@setonparish.org
DTSTAMP:20260421T195027Z
DTSTART:20260619T090000
DTEND:20260619T120000
SUMMARY:Vacation Bible School 2026
DESCRIPTION:Rainforest Falls VBS coming in JUNE 2026! Monday\, June 15\, 2
 026 through Friday\, June 19\, 2026 
END:VEVENT
BEGIN:VEVENT
UID:3052062@setonparish.org
DTSTAMP:20260421T195027Z
DTSTART:20260531T120000
DTEND:20260531T140000
SUMMARY:Msgr. Henry Petter’s 50th Anniversary & Reception
DESCRIPTION:Join us for Noon Mass celebrating Msgr. Henry’s 50th Anniversa
 ry of Ordination\, followed by a reception in the Parish Hall. All welcome
 !
END:VEVENT
BEGIN:VEVENT
UID:3074544@setonparish.org
DTSTAMP:20260421T195027Z
DTSTART:20260530T180000
DTEND:20260530T223000
SUMMARY:50th Anniversary Picnic
DESCRIPTION:50th Anniversary Family Fun Picnic at the Red Tail Pavilion at
  Oak Point Park. Join us for live entertainment\, food truck\, fun\, and g
 ames for the whole family. \n\nMore details here: https://50thpicnic.auctr
 ia.events
END:VEVENT
BEGIN:VEVENT
UID:3076288@setonparish.org
DTSTAMP:20260421T195027Z
DTSTART:20260506T183000
DTEND:20260506T210000
SUMMARY:Living Your Stengths Seminar
DESCRIPTION:Find details here https://setonparish.org/lys Registration by 
 May 1st is required.
END:VEVENT
BEGIN:VEVENT
UID:3079073@setonparish.org
DTSTAMP:20260421T195027Z
DTSTART:20260424T140000
DTEND:20260424T150000
SUMMARY:+Salvatore Miele
DESCRIPTION:The Funeral Mass will be held in the church\, located at 2700 
 W. Spring Creek Parkway Plano\, Texas 75023
END:VEVENT
BEGIN:VEVENT
UID:3079074@setonparish.org
DTSTAMP:20260421T195027Z
DTSTART:20260430T110000
DTEND:20260430T120000
SUMMARY:+John Fitzgerald
DESCRIPTION:The Funeral Mass will be held in the church\, located at 2700 
 W. Spring Creek Parkway Plano\, Texas 75023
END:VEVENT
BEGIN:VEVENT
UID:3079532@setonparish.org
DTSTAMP:20260421T195027Z
DTSTART:20260429T110000
DTEND:20260429T120000
SUMMARY:+Beatrix Lorenzen
DESCRIPTION:The Funeral Mass will be held in the chapel\, located at 2700 
 W. Spring Creek Parkway Plano\, Texas 75023
END:VEVENT
BEGIN:VEVENT
UID:3079538@setonparish.org
DTSTAMP:20260421T195027Z
DTSTART:20260509T110000
DTEND:20260509T120000
SUMMARY:+Julia Aiken
DESCRIPTION:The Funeral Mass will be held in the chapel\, located at 2700 
 W. Spring Creek Parkway Plano\, Texas 75023
END:VEVENT
END:VCALENDAR
